BEGIN:VCALENDAR
VERSION:2.0
PRODID:-//Stichting 12 Reeuwijkse plassen - ECPv6.15.20//NONSGML v1.0//EN
CALSCALE:GREGORIAN
METHOD:PUBLISH
X-WR-CALNAME:Stichting 12 Reeuwijkse plassen
X-ORIGINAL-URL:https://www.12reeuwijkseplassen.nl
X-WR-CALDESC:Evenementen voor Stichting 12 Reeuwijkse plassen
REFRESH-INTERVAL;VALUE=DURATION:PT1H
X-Robots-Tag:noindex
X-PUBLISHED-TTL:PT1H
BEGIN:VTIMEZONE
TZID:Europe/Amsterdam
BEGIN:DAYLIGHT
TZOFFSETFROM:+0100
TZOFFSETTO:+0200
TZNAME:CEST
DTSTART:20240331T010000
END:DAYLIGHT
BEGIN:STANDARD
TZOFFSETFROM:+0200
TZOFFSETTO:+0100
TZNAME:CET
DTSTART:20241027T010000
END:STANDARD
BEGIN:DAYLIGHT
TZOFFSETFROM:+0100
TZOFFSETTO:+0200
TZNAME:CEST
DTSTART:20250330T010000
END:DAYLIGHT
BEGIN:STANDARD
TZOFFSETFROM:+0200
TZOFFSETTO:+0100
TZNAME:CET
DTSTART:20251026T010000
END:STANDARD
BEGIN:DAYLIGHT
TZOFFSETFROM:+0100
TZOFFSETTO:+0200
TZNAME:CEST
DTSTART:20260329T010000
END:DAYLIGHT
BEGIN:STANDARD
TZOFFSETFROM:+0200
TZOFFSETTO:+0100
TZNAME:CET
DTSTART:20261025T010000
END:STANDARD
END:VTIMEZONE
BEGIN:VEVENT
DTSTART;TZID=Europe/Amsterdam:20251115T093000
DTEND;TZID=Europe/Amsterdam:20251115T123000
DTSTAMP:20260423T003210
CREATED:20250417T092256Z
LAST-MODIFIED:20251024T132012Z
UID:258617-1763199000-1763209800@www.12reeuwijkseplassen.nl
SUMMARY:Vuilvissen Reeuwijks Plassengebied
DESCRIPTION:Op 15 november gaan we vuilvissen in het plassengebied. Zo zorgen we ervoor dat de oevers\, rietkragen en het water schoon het winterseizoen ingaan. In de boot of wandelend kijken we goed of we zwerfafval zien en we ruimen dit op. De gemeente zorgt voor grijpstokken en afvalzakken. \nEen schoon plassengebied is belangrijk:\n• plastic\, hout en andere troep zijn slecht voor de waterkwaliteit\,\n• we willen voorkomen dat dieren verstrikt raken of troep opeten. \nWe sluiten af met een drankje en een warme kom snert bij Roei- en Zeilvereniging Gouda aan de Notaris d’Aumerielaan te Reeuwijk. \nVoor meer informatie en aanmelden\, stuur een e-mail aan vuilvissen@gmail.com
URL:https://www.12reeuwijkseplassen.nl/event/vuilvissen-reeuwijks-plassengebied/
ORGANIZER;CN="Stichting De 12 Reeuwijkse Plassen":MAILTO:secretaris@12reeuwjikseplassen.nl
END:VEVENT
END:VCALENDAR