BEGIN:VCALENDAR
VERSION:2.0
PRODID:-//Stichting 12 Reeuwijkse plassen - ECPv6.15.20//NONSGML v1.0//EN
CALSCALE:GREGORIAN
METHOD:PUBLISH
X-ORIGINAL-URL:https://www.12reeuwijkseplassen.nl
X-WR-CALDESC:Evenementen voor Stichting 12 Reeuwijkse plassen
REFRESH-INTERVAL;VALUE=DURATION:PT1H
X-Robots-Tag:noindex
X-PUBLISHED-TTL:PT1H
BEGIN:VTIMEZONE
TZID:Europe/Amsterdam
BEGIN:DAYLIGHT
TZOFFSETFROM:+0100
TZOFFSETTO:+0200
TZNAME:CEST
DTSTART:20240331T010000
END:DAYLIGHT
BEGIN:STANDARD
TZOFFSETFROM:+0200
TZOFFSETTO:+0100
TZNAME:CET
DTSTART:20241027T010000
END:STANDARD
BEGIN:DAYLIGHT
TZOFFSETFROM:+0100
TZOFFSETTO:+0200
TZNAME:CEST
DTSTART:20250330T010000
END:DAYLIGHT
BEGIN:STANDARD
TZOFFSETFROM:+0200
TZOFFSETTO:+0100
TZNAME:CET
DTSTART:20251026T010000
END:STANDARD
BEGIN:DAYLIGHT
TZOFFSETFROM:+0100
TZOFFSETTO:+0200
TZNAME:CEST
DTSTART:20260329T010000
END:DAYLIGHT
BEGIN:STANDARD
TZOFFSETFROM:+0200
TZOFFSETTO:+0100
TZNAME:CET
DTSTART:20261025T010000
END:STANDARD
END:VTIMEZONE
BEGIN:VEVENT
DTSTART;TZID=Europe/Amsterdam:20251112T200000
DTEND;TZID=Europe/Amsterdam:20251112T220000
DTSTAMP:20260423T002711
CREATED:20250113T092454Z
LAST-MODIFIED:20250417T092437Z
UID:256620-1762977600-1762984800@www.12reeuwijkseplassen.nl
SUMMARY:OTRP najaar 2025
DESCRIPTION:Op woensdag 10 november vindt de 3e OTRP bijeenkomst plaats. OTRP staat voor Overleg Toekomst Reeuwijkse Plassen. \nHet is een platform voor overleg tussen organisaties die betrokken zijn of belang hebben bij het wel en wee van de Reeuwijkse Plassen. Een brede groep met vertegenwoordigers van de gemeente Bodegraven-Reeuwijk\, de Provincie Zuid Holland\, het Hoogheemraadschap van Rijnland\, het dorpsteam Plassengebied\, diverse eigenarenverenigingen\, de natuur- en milieuorganisaties\, de watersport en de recreatie\, de visserij\, de jacht en Staatsbosbeheer. Organisaties ontvangen een uitnodiging voor deelname aan de bijeenkomst. \nDe OTRP heeft een onafhankelijke voorzitter\, Milène Junius\, oud burgemeester van Hellevoetsluis. De organisatie en verslaglegging ligt in de handen van de stichting De 12 Reeuwijkse Plassen. Aanmelding voor deelname kan via de gebiedsmanager (zie contact info).
URL:https://www.12reeuwijkseplassen.nl/event/otrp-najaar-2025/
ORGANIZER;CN="Stichting De 12 Reeuwijkse Plassen":MAILTO:secretaris@12reeuwjikseplassen.nl
END:VEVENT
END:VCALENDAR