BEGIN:VCALENDAR
VERSION:2.0
PRODID:-//Stichting 12 Reeuwijkse plassen - ECPv6.15.20//NONSGML v1.0//EN
CALSCALE:GREGORIAN
METHOD:PUBLISH
X-WR-CALNAME:Stichting 12 Reeuwijkse plassen
X-ORIGINAL-URL:https://www.12reeuwijkseplassen.nl
X-WR-CALDESC:Evenementen voor Stichting 12 Reeuwijkse plassen
REFRESH-INTERVAL;VALUE=DURATION:PT1H
X-Robots-Tag:noindex
X-PUBLISHED-TTL:PT1H
BEGIN:VTIMEZONE
TZID:Europe/Amsterdam
BEGIN:DAYLIGHT
TZOFFSETFROM:+0100
TZOFFSETTO:+0200
TZNAME:CEST
DTSTART:20240331T010000
END:DAYLIGHT
BEGIN:STANDARD
TZOFFSETFROM:+0200
TZOFFSETTO:+0100
TZNAME:CET
DTSTART:20241027T010000
END:STANDARD
BEGIN:DAYLIGHT
TZOFFSETFROM:+0100
TZOFFSETTO:+0200
TZNAME:CEST
DTSTART:20250330T010000
END:DAYLIGHT
BEGIN:STANDARD
TZOFFSETFROM:+0200
TZOFFSETTO:+0100
TZNAME:CET
DTSTART:20251026T010000
END:STANDARD
BEGIN:DAYLIGHT
TZOFFSETFROM:+0100
TZOFFSETTO:+0200
TZNAME:CEST
DTSTART:20260329T010000
END:DAYLIGHT
BEGIN:STANDARD
TZOFFSETFROM:+0200
TZOFFSETTO:+0100
TZNAME:CET
DTSTART:20261025T010000
END:STANDARD
END:VTIMEZONE
BEGIN:VEVENT
DTSTART;TZID=Europe/Amsterdam:20250620T140000
DTEND;TZID=Europe/Amsterdam:20250718T170000
DTSTAMP:20260423T060845
CREATED:20250530T132144Z
LAST-MODIFIED:20250530T135312Z
UID:259381-1750428000-1752858000@www.12reeuwijkseplassen.nl
SUMMARY:Foto-expositie 'Leven met water in een natuurgebied'
DESCRIPTION:Stichting De 12 Reeuwijkse Plassen (D12RP) organiseert in samenwerking met het Streekmuseum Reeuwijk de fotowedstrijd ‘Leven met water in een natuurgebied’. Ons doel is om de schoonheid\, de kwetsbaarheid en ook de recreatieve waarden van het Reeuwijkse Plassengebied op een mooie manier onder de aandacht brengen van bewoners en bezoekers. \nHet thema is ‘Leven met water in een natuurgebied’ met foto’s verdeeld in drie categorieën: \n🌸 Lente aan en op het water\n🔍 Natuur van dichtbij (macrofotografie)\n🚣 Watersport en recreatie \nDe opening van de expositie en bekendmaking winnaars juryprijs is op vrijdag 20 juni 2025 om 14.00 uur.\n \nBezoekers kunnen stemmen op de foto’s voor een een publiekprijs. \nOpeningstijden: woensdag\, zaterdag en zondag van 13.00-17.00 uur \n 
URL:https://www.12reeuwijkseplassen.nl/event/foto-expositie-leven-met-water-in-een-natuurgebied/
LOCATION:Streekmuseum Reeuwijk\, Oudeweg 3\, Reeuwijk\, 2811NM\, Netherlands
ATTACH;FMTTYPE=image/jpeg:https://www.12reeuwijkseplassen.nl/wp-content/uploads/2025/05/Fotowedstrijd-liggend-small.jpg
ORGANIZER;CN="Stichting De 12 Reeuwijkse Plassen":MAILTO:secretaris@12reeuwjikseplassen.nl
END:VEVENT
END:VCALENDAR