BEGIN:VCALENDAR
VERSION:2.0
PRODID:-//Stichting 12 Reeuwijkse plassen - ECPv6.15.20//NONSGML v1.0//EN
CALSCALE:GREGORIAN
METHOD:PUBLISH
X-WR-CALNAME:Stichting 12 Reeuwijkse plassen
X-ORIGINAL-URL:https://www.12reeuwijkseplassen.nl
X-WR-CALDESC:Evenementen voor Stichting 12 Reeuwijkse plassen
REFRESH-INTERVAL;VALUE=DURATION:PT1H
X-Robots-Tag:noindex
X-PUBLISHED-TTL:PT1H
BEGIN:VTIMEZONE
TZID:Europe/Amsterdam
BEGIN:DAYLIGHT
TZOFFSETFROM:+0100
TZOFFSETTO:+0200
TZNAME:CEST
DTSTART:20230326T010000
END:DAYLIGHT
BEGIN:STANDARD
TZOFFSETFROM:+0200
TZOFFSETTO:+0100
TZNAME:CET
DTSTART:20231029T010000
END:STANDARD
BEGIN:DAYLIGHT
TZOFFSETFROM:+0100
TZOFFSETTO:+0200
TZNAME:CEST
DTSTART:20240331T010000
END:DAYLIGHT
BEGIN:STANDARD
TZOFFSETFROM:+0200
TZOFFSETTO:+0100
TZNAME:CET
DTSTART:20241027T010000
END:STANDARD
BEGIN:DAYLIGHT
TZOFFSETFROM:+0100
TZOFFSETTO:+0200
TZNAME:CEST
DTSTART:20250330T010000
END:DAYLIGHT
BEGIN:STANDARD
TZOFFSETFROM:+0200
TZOFFSETTO:+0100
TZNAME:CET
DTSTART:20251026T010000
END:STANDARD
END:VTIMEZONE
BEGIN:VEVENT
DTSTART;TZID=Europe/Amsterdam:20241124T150000
DTEND;TZID=Europe/Amsterdam:20241124T150000
DTSTAMP:20260423T193927
CREATED:20241103T132914Z
LAST-MODIFIED:20241103T133118Z
UID:256155-1732460400-1732460400@www.12reeuwijkseplassen.nl
SUMMARY:Informatiebijeenkomst elektrisch varen
DESCRIPTION:Vind je dat je boot eigenlijk wel veel lawaai maakt? Dat je elkaar zo moeilijk kunt verstaan\, ook als je langzaam vaart? En hoe dat zou zijn met een elektrische motor? Of misschien wil je duurzaam gaan varen om minder CO2 uit te stoten. \nLaat je dan informeren op de interactieve bijeenkomst van het Dorpsteam Plassengebied op 24 november. Stichting De 12 Reeuwijkse Plassen ondersteunt dit initiatief. We wisselen graag ideeën uit over de toekomst van elektrisch varen in het Reeuwijkse plassengebied. \nLees meer: Kom ook naar infobijeenkomst elektrisch varen! | Stichting 12 Reeuwijkse plassen
URL:https://www.12reeuwijkseplassen.nl/event/informatiebijeenkomst-elektrisch-varen/
LOCATION:De Ark\, ‘t Kerkestuk 1 (ingang Miereakker)\, Reeuwijk\, Nederland
ATTACH;FMTTYPE=image/png:https://www.12reeuwijkseplassen.nl/wp-content/uploads/2024/10/elektrisch_varen_1.png
ORGANIZER;CN="Dorpsteam Plassengebied":MAILTO:info@dorpsteamplassengebied.nl
END:VEVENT
END:VCALENDAR