BEGIN:VCALENDAR
VERSION:2.0
PRODID:-//Stichting 12 Reeuwijkse plassen - ECPv6.15.20//NONSGML v1.0//EN
CALSCALE:GREGORIAN
METHOD:PUBLISH
X-WR-CALNAME:Stichting 12 Reeuwijkse plassen
X-ORIGINAL-URL:https://www.12reeuwijkseplassen.nl
X-WR-CALDESC:Evenementen voor Stichting 12 Reeuwijkse plassen
REFRESH-INTERVAL;VALUE=DURATION:PT1H
X-Robots-Tag:noindex
X-PUBLISHED-TTL:PT1H
BEGIN:VTIMEZONE
TZID:Europe/Amsterdam
BEGIN:DAYLIGHT
TZOFFSETFROM:+0100
TZOFFSETTO:+0200
TZNAME:CEST
DTSTART:20230326T010000
END:DAYLIGHT
BEGIN:STANDARD
TZOFFSETFROM:+0200
TZOFFSETTO:+0100
TZNAME:CET
DTSTART:20231029T010000
END:STANDARD
BEGIN:DAYLIGHT
TZOFFSETFROM:+0100
TZOFFSETTO:+0200
TZNAME:CEST
DTSTART:20240331T010000
END:DAYLIGHT
BEGIN:STANDARD
TZOFFSETFROM:+0200
TZOFFSETTO:+0100
TZNAME:CET
DTSTART:20241027T010000
END:STANDARD
BEGIN:DAYLIGHT
TZOFFSETFROM:+0100
TZOFFSETTO:+0200
TZNAME:CEST
DTSTART:20250330T010000
END:DAYLIGHT
BEGIN:STANDARD
TZOFFSETFROM:+0200
TZOFFSETTO:+0100
TZNAME:CET
DTSTART:20251026T010000
END:STANDARD
END:VTIMEZONE
BEGIN:VEVENT
DTSTART;TZID=Europe/Amsterdam:20241109T090000
DTEND;TZID=Europe/Amsterdam:20241109T120000
DTSTAMP:20260423T193957
CREATED:20240827T043938Z
LAST-MODIFIED:20241103T132602Z
UID:255771-1731142800-1731153600@www.12reeuwijkseplassen.nl
SUMMARY:Vuilvissen plassengebied
DESCRIPTION:Op 9 november gaan we vuilvissen in het plassengebied. Zo zorgen we ervoor dat de oevers\, rietkragen en het water schoon het winterseizoen ingaan. In de boot of wandelend kijken we goed of we zwerfafval zien en we ruimen dit op. De gemeente zorgt voor grijpstokken en afvalzakken. \nEen schoon plassengebied is belangrijk:\n• plastic\, hout en andere troep zijn slecht voor de waterkwaliteit\,\n• we willen voorkomen dat dieren verstrikt raken of troep opeten. \nLees meer: Vuilvissen voor schone plassen op 9 november | Stichting 12 Reeuwijkse plassen
URL:https://www.12reeuwijkseplassen.nl/event/vuilvissen-plassengebied/
ATTACH;FMTTYPE=image/jpeg:https://www.12reeuwijkseplassen.nl/wp-content/uploads/2024/02/zwerafval-eend.jpg
ORGANIZER;CN="Stichting De 12 Reeuwijkse Plassen":MAILTO:secretaris@12reeuwijkseplassen.nl
END:VEVENT
END:VCALENDAR